BEGIN:VCALENDAR
VERSION:2.0
PRODID:-//Squarespace Inc/Squarespace 6//v6//EN
BEGIN:VEVENT
UID:5b7f5d5c4fa51a040014805f@squarespace.com
DTSTAMP:20180824T012347Z
DTSTART:20180928T120000Z
DTEND:20180928T200000Z
SUMMARY:Last day of Term 3
END:VEVENT
END:VCALENDAR
