BEGIN:VCALENDAR
VERSION:2.0
PRODID:-//Squarespace Inc/Squarespace 6//v6//EN
BEGIN:VEVENT
UID:5b7f77dfcd8366e8f199692b@squarespace.com
DTSTAMP:20180824T031428Z
DTSTART:20180914T133000Z
DTEND:20180914T183000Z
SUMMARY:Transition to School Group Excursion
END:VEVENT
END:VCALENDAR
