BEGIN:VCALENDAR
VERSION:2.0
PRODID:-//Squarespace Inc/Squarespace 6//v6//EN
BEGIN:VEVENT
UID:5b7f779ec2241bb6302d6c7a@squarespace.com
DTSTAMP:20180824T031313Z
DTSTART:20180912T140000Z
DTEND:20180912T160000Z
SUMMARY:WAVES EXCURSION
END:VEVENT
END:VCALENDAR
