BEGIN:VCALENDAR
VERSION:2.0
PRODID:-//Squarespace Inc/Squarespace 6//v6//EN
BEGIN:VEVENT
UID:5b7f77556d2a73185b3affff@squarespace.com
DTSTAMP:20180824T031219Z
DTSTART:20180911T140000Z
DTEND:20180911T160000Z
SUMMARY:RIPPLES EXCURSION
END:VEVENT
END:VCALENDAR
