BEGIN:VCALENDAR
VERSION:2.0
PRODID:-//Squarespace Inc/Squarespace 6//v6//EN
BEGIN:VEVENT
UID:5ae7e3b9575d1f308353b6ce@squarespace.com
DTSTAMP:20180501T034956Z
DTSTART:20180627T140000Z
DTEND:20180627T155900Z
SUMMARY:WAVES Excursion
END:VEVENT
END:VCALENDAR
