BEGIN:VCALENDAR
VERSION:2.0
PRODID:-//Squarespace Inc/Squarespace 6//v6//EN
BEGIN:VEVENT
UID:5ae7e264aa4a994ac03610aa@squarespace.com
DTSTAMP:20180501T034638Z
DTSTART:20180504T140000Z
DTEND:20180504T150000Z
SUMMARY:TSG Parent Support Group
END:VEVENT
END:VCALENDAR
