BEGIN:VCALENDAR
VERSION:2.0
PRODID:-//Squarespace Inc/Squarespace 6//v6//EN
BEGIN:VEVENT
UID:5a208ac8ec212d686c9a75db@squarespace.com
DTSTAMP:20180913T033815Z
DTSTART:20180406T230000Z
DTEND:20180407T030000Z
SUMMARY:Gala Dinner evening
END:VEVENT
END:VCALENDAR
