BEGIN:VCALENDAR
VERSION:2.0
PRODID:-//Squarespace Inc/Squarespace 6//v6//EN
BEGIN:VEVENT
UID:5a8f5e5dc830252d8ef1c204@squarespace.com
DTSTAMP:20180223T003838Z
DTSTART:20180430T113000Z
DTEND:20180430T200000Z
SUMMARY:TERM 2 BEGINS
END:VEVENT
END:VCALENDAR
