BEGIN:VCALENDAR
VERSION:2.0
PRODID:-//Squarespace Inc/Squarespace 6//v6//EN
BEGIN:VEVENT
UID:5a8f5b6ce4966b791d2489e7@squarespace.com
DTSTAMP:20180223T000957Z
DTSTART:20180402T050500Z
DTEND:20180403T035500Z
SUMMARY:CSC CLOSED - EASTER MONDAY
END:VEVENT
END:VCALENDAR
