BEGIN:VCALENDAR
VERSION:2.0
PRODID:-//Squarespace Inc/Squarespace 6//v6//EN
BEGIN:VEVENT
UID:5a8f5c4f71c10bb332b30e67@squarespace.com
DTSTAMP:20180223T001420Z
DTSTART:20180413T113000Z
DTEND:20180413T200000Z
SUMMARY:LAST DAY OF TERM 1
END:VEVENT
END:VCALENDAR
