BEGIN:VCALENDAR
VERSION:2.0
PRODID:-//Squarespace Inc/Squarespace 6//v6//EN
BEGIN:VEVENT
UID:5a8f570ae4966b791d234b6e@squarespace.com
DTSTAMP:20180222T235237Z
DTSTART:20180307T150000Z
DTEND:20180307T170200Z
SUMMARY:Triple P - Parent Course
END:VEVENT
END:VCALENDAR
