BEGIN:VCALENDAR
VERSION:2.0
PRODID:-//Squarespace Inc/Squarespace 6//v6//EN
BEGIN:VEVENT
UID:5a8f5a67c830252d8ef0d0c3@squarespace.com
DTSTAMP:20180223T000802Z
DTSTART:20180330T050500Z
DTEND:20180331T035500Z
SUMMARY:CSC CLOSED - GOOD FRIDAY
END:VEVENT
END:VCALENDAR
