BEGIN:VCALENDAR
VERSION:2.0
PRODID:-//Squarespace Inc/Squarespace 6//v6//EN
BEGIN:VEVENT
UID:5a8f5918c830252d8ef0743d@squarespace.com
DTSTAMP:20180223T000329Z
DTSTART:20180328T140000Z
DTEND:20180328T160200Z
SUMMARY:EASTER PARTY
END:VEVENT
END:VCALENDAR
