BEGIN:VCALENDAR
VERSION:2.0
PRODID:-//Squarespace Inc/Squarespace 6//v6//EN
BEGIN:VEVENT
UID:5a8f5bf08165f5f0529f2d66@squarespace.com
DTSTAMP:20180223T001132Z
DTSTART:20180323T140000Z
DTEND:20180323T183000Z
SUMMARY:TSG EXCURSION TO ART GALLERY
END:VEVENT
END:VCALENDAR
