BEGIN:VCALENDAR
VERSION:2.0
PRODID:-//Squarespace Inc/Squarespace 6//v6//EN
BEGIN:VEVENT
UID:5a8f58cdc830252d8ef061cb@squarespace.com
DTSTAMP:20180222T235806Z
DTSTART:20180321T140000Z
DTEND:20180321T160200Z
SUMMARY:Triple P - Parent Course
END:VEVENT
END:VCALENDAR
