BEGIN:VCALENDAR
VERSION:2.0
PRODID:-//Squarespace Inc/Squarespace 6//v6//EN
BEGIN:VEVENT
UID:5a8f586e71c10b7921a554b7@squarespace.com
DTSTAMP:20180222T235631Z
DTSTART:20180314T140000Z
DTEND:20180314T160200Z
SUMMARY:Triple P - Parent Course
END:VEVENT
END:VCALENDAR
