BEGIN:VCALENDAR
VERSION:2.0
PRODID:-//Squarespace Inc/Squarespace 6//v6//EN
BEGIN:VEVENT
UID:5b7f767070a6adbc6a740944@squarespace.com
DTSTAMP:20180824T031034Z
DTSTART:20181219T130000Z
DTEND:20181219T210000Z
SUMMARY:STAFF DEVELOPMENT DAY
END:VEVENT
END:VCALENDAR
