BEGIN:VCALENDAR
VERSION:2.0
PRODID:-//Squarespace Inc/Squarespace 6//v6//EN
BEGIN:VEVENT
UID:5b7f75d803ce64cbcbc88fd1@squarespace.com
DTSTAMP:20180824T030623Z
DTSTART:20181217T130000Z
DTEND:20181217T210000Z
SUMMARY:STAFF DEVELOPMENT DAY
END:VEVENT
END:VCALENDAR
