BEGIN:VCALENDAR
VERSION:2.0
PRODID:-//Squarespace Inc/Squarespace 6//v6//EN
BEGIN:VEVENT
UID:5b7f62324d7a9cc4d588d84f@squarespace.com
DTSTAMP:20180824T014216Z
DTSTART:20181214T143000Z
DTEND:20181214T193000Z
SUMMARY:Last Transition to School Group for 2018
END:VEVENT
END:VCALENDAR
