BEGIN:VCALENDAR
VERSION:2.0
PRODID:-//Squarespace Inc/Squarespace 6//v6//EN
BEGIN:VEVENT
UID:5b7f616d4ae2370aaf22b2e7@squarespace.com
DTSTAMP:20180824T014031Z
DTSTART:20181212T150000Z
DTEND:20181212T170000Z
SUMMARY:CHILDREN'S CHRISTMAS PARTY - LAST WAVES FOR 2018
END:VEVENT
END:VCALENDAR
