BEGIN:VCALENDAR
VERSION:2.0
PRODID:-//Squarespace Inc/Squarespace 6//v6//EN
BEGIN:VEVENT
UID:5b7f5f0b4fa51a04001490e1@squarespace.com
DTSTAMP:20180824T012835Z
DTSTART:20181102T203000Z
DTEND:20181102T233000Z
SUMMARY:SAVE THE DATE - PAELLA TWILIGHT GATHERING
END:VEVENT
END:VCALENDAR
