BEGIN:VCALENDAR
VERSION:2.0
PRODID:-//Squarespace Inc/Squarespace 6//v6//EN
BEGIN:VEVENT
UID:5b7f5f99898583f690235496@squarespace.com
DTSTAMP:20180824T013124Z
DTSTART:20181023T140000Z
DTEND:20181023T160000Z
SUMMARY:First RIPPLES for Term 4
END:VEVENT
END:VCALENDAR
