BEGIN:VCALENDAR
VERSION:2.0
PRODID:-//Squarespace Inc/Squarespace 6//v6//EN
BEGIN:VEVENT
UID:5b7f5f60562fa72efd10b477@squarespace.com
DTSTAMP:20180824T012951Z
DTSTART:20181017T140000Z
DTEND:20181017T160000Z
SUMMARY:First WAVES for Term 4
END:VEVENT
END:VCALENDAR
