BEGIN:VCALENDAR
VERSION:2.0
PRODID:-//Squarespace Inc/Squarespace 6//v6//EN
BEGIN:VEVENT
UID:5b7f5eb7032be4e692d3189f@squarespace.com
DTSTAMP:20180824T012719Z
DTSTART:20181015T120000Z
DTEND:20181015T200000Z
SUMMARY:First Day of Term 4 - Individual Therapy Sessions Begin
END:VEVENT
END:VCALENDAR
