BEGIN:VCALENDAR
VERSION:2.0
PRODID:-//Squarespace Inc/Squarespace 6//v6//EN
BEGIN:VEVENT
UID:58ae5b00e4fcb57eb0e896e0@squarespace.com
DTSTAMP:20170303T055116Z
DTSTART:20170330T200000Z
DTEND:20170330T230000Z
SUMMARY:Family Gathering & Welcome
END:VEVENT
END:VCALENDAR
