BEGIN:VCALENDAR
VERSION:2.0
PRODID:-//Squarespace Inc/Squarespace 6//v6//EN
BEGIN:VEVENT
UID:58bddb02725e256ad4502370@squarespace.com
DTSTAMP:20170306T215808Z
DTSTART:20170308T130000Z
DTEND:20170308T210000Z
SUMMARY:Staff Development Day
END:VEVENT
END:VCALENDAR
