BEGIN:VCALENDAR
VERSION:2.0
PRODID:-//Squarespace Inc/Squarespace 6//v6//EN
BEGIN:VEVENT
UID:5a208a268165f51b7db094df@squarespace.com
DTSTAMP:20171130T224809Z
DTSTART:20171206T143000Z
DTEND:20171206T165500Z
SUMMARY:Children's Christmas Party
END:VEVENT
END:VCALENDAR
