BEGIN:VCALENDAR
VERSION:2.0
PRODID:-//Squarespace Inc/Squarespace 6//v6//EN
BEGIN:VEVENT
UID:58bdceb81b631b8750ac21e0@squarespace.com
DTSTAMP:20170306T215555Z
DTSTART:20171216T143000Z
DTEND:20171216T223000Z
SUMMARY:CareFlight's Magic Mania
END:VEVENT
END:VCALENDAR
