BEGIN:VCALENDAR
VERSION:2.0
PRODID:-//Squarespace Inc/Squarespace 6//v6//EN
BEGIN:VEVENT
UID:57ba61529f7456e36f31a323@squarespace.com
DTSTAMP:20160822T022204Z
DTSTART:20160824T140000Z
DTEND:20160824T160000Z
SUMMARY:Hearing Awareness Week Celebration
END:VEVENT
END:VCALENDAR
