BEGIN:VCALENDAR
VERSION:2.0
PRODID:-//Squarespace Inc/Squarespace 6//v6//EN
BEGIN:VEVENT
UID:56cb89b4b6aa60407592a810@squarespace.com
DTSTAMP:20160222T222347Z
DTSTART:20160302T150000Z
DTEND:20160302T170000Z
SUMMARY:Westmead Children's Hospital Social Worker\, Deepali Trackroo\, at 
 Parent Support Group
END:VEVENT
END:VCALENDAR
