BEGIN:VCALENDAR
VERSION:2.0
PRODID:-//Squarespace Inc/Squarespace 6//v6//EN
BEGIN:VEVENT
UID:56c5182e2eeb8104ee1fb08d@squarespace.com
DTSTAMP:20160222T222001Z
DTSTART:20160224T150000Z
DTEND:20160224T170000Z
SUMMARY:Australian Hearing Audiologist\, Latha Ramesh\, at Parent Support G
 roup
END:VEVENT
END:VCALENDAR
