BEGIN:VCALENDAR
VERSION:2.0
PRODID:-//Squarespace Inc/Squarespace 6//v6//EN
BEGIN:VEVENT
UID:584ebcfa5016e1bf5decbfdc@squarespace.com
DTSTAMP:20161212T150940Z
DTSTART:20161226T123000Z
DTEND:20161227T013000Z
SUMMARY:Christmas Day
END:VEVENT
END:VCALENDAR
