BEGIN:VCALENDAR
VERSION:2.0
PRODID:-//Squarespace Inc/Squarespace 6//v6//EN
BEGIN:VEVENT
UID:5851f0b3f5e231ab6747dbfe@squarespace.com
DTSTAMP:20161215T012815Z
DTSTART:20161220T133000Z
DTEND:20161220T213000Z
SUMMARY:Last Day of Term 4\, 2016
END:VEVENT
END:VCALENDAR
